BEGIN:VCALENDAR
VERSION:2.0
PRODID:-//ZContent.net//ZapCalLib 1.0//EN
CALSCALE:GREGORIAN
METHOD:PUBLISH
BEGIN:VEVENT
SUMMARY:Lesung: Ungewöhnliche Fußballspiele mit Jörg Heinisch
DTSTART:20260508T193000
DTEND:20260508T235959
DTSTAMP:20260420T184319
LOCATION:StadtBibliothek
END:VEVENT
END:VCALENDAR
