BEGIN:VCALENDAR
VERSION:2.0
PRODID:-//ZContent.net//ZapCalLib 1.0//EN
CALSCALE:GREGORIAN
METHOD:PUBLISH
BEGIN:VEVENT
SUMMARY:Verbinden statt spalten – Eine Antwort auf die Politik der Polari
 sierung
DTSTART:20260527T190000
DTEND:20260527T210000
DTSTAMP:20260420T184306
LOCATION:StadtBibliothek
END:VEVENT
END:VCALENDAR
